BEGIN:VCALENDAR
VERSION:2.0
PRODID:-//Squarespace Inc/Squarespace 6//v6//EN
BEGIN:VEVENT
UID:54dc03d7e4b06c51ff67f9b4@squarespace.com
DTSTAMP:20150212T031714Z
DTSTART:20150309T223000Z
DTEND:20150311T053000Z
SUMMARY:Art workshop @ Rosby Wines
END:VEVENT
END:VCALENDAR
