BEGIN:VCALENDAR
VERSION:2.0
PRODID:-//Squarespace Inc/Squarespace 6//v6//EN
BEGIN:VEVENT
UID:54dbecd1e4b085335dd7e5c2@squarespace.com
DTSTAMP:20150212T033134Z
DTSTART:20150402T210000Z
DTEND:20150406T030000Z
SUMMARY:Mudgee Bike Muster
END:VEVENT
END:VCALENDAR
