BEGIN:VCALENDAR
VERSION:2.0
PRODID:-//Squarespace Inc/Squarespace 6//v6//EN
BEGIN:VEVENT
UID:54dc0172e4b0c2bd84e04a6b@squarespace.com
DTSTAMP:20150212T031634Z
DTSTART:20150213T223000Z
DTEND:20150214T183000Z
SUMMARY:Art workshop at Rosby Wines
END:VEVENT
END:VCALENDAR
