BEGIN:VCALENDAR
VERSION:2.0
PRODID:-//Squarespace Inc/Squarespace 6//v6//EN
BEGIN:VEVENT
UID:54dc04b8e4b016f0f6c8bd34@squarespace.com
DTSTAMP:20150212T032025Z
DTSTART:20150314T060000Z
DTEND:20150314T110000Z
SUMMARY:Footcrush Feast @ Robert Stein Vineyard
END:VEVENT
END:VCALENDAR
