BEGIN:VCALENDAR
VERSION:2.0
PRODID:-//Squarespace Inc/Squarespace 6//v6//EN
BEGIN:VEVENT
UID:54dbedfbe4b0eda6d7333e02@squarespace.com
DTSTAMP:20150212T032816Z
DTSTART:20150321T060000Z
DTEND:20150321T110000Z
SUMMARY:Mudfest
END:VEVENT
END:VCALENDAR
