BEGIN:VCALENDAR
VERSION:2.0
PRODID:-//Squarespace Inc/Squarespace 6//v6//EN
BEGIN:VEVENT
UID:58994e708419c2c9420481ee@squarespace.com
DTSTAMP:20170207T043745Z
DTSTART:20171029T000000Z
DTEND:20171029T060000Z
SUMMARY:Wahroonga Food + Wine Festival
END:VEVENT
END:VCALENDAR
