BEGIN:VCALENDAR
VERSION:2.0
PRODID:-//Squarespace Inc/Squarespace 6//v6//EN
BEGIN:VEVENT
UID:54dc101ae4b013374ea71207@squarespace.com
DTSTAMP:20150212T031031Z
DTSTART:20150503T030000Z
DTEND:20150503T070000Z
SUMMARY:Gooree Cup Races @ the Mudgee Racecourse
GEO:-32.575847;149.601269
LOCATION:Mudgee Racecourse\, Ulan Road\, Mudgee\, NSW\, Australia
END:VEVENT
END:VCALENDAR
