BEGIN:VCALENDAR
VERSION:2.0
PRODID:-//Squarespace Inc/Squarespace 6//v6//EN
BEGIN:VEVENT
UID:5731437e7da24f07c2cec6e6@squarespace.com
DTSTAMP:20160510T022116Z
DTSTART:20160505T023000Z
DTEND:20160531T073000Z
SUMMARY:Bird Lore Exhibition
END:VEVENT
END:VCALENDAR
