BEGIN:VCALENDAR
VERSION:2.0
PRODID:-//Squarespace Inc/Squarespace 6//v6//EN
BEGIN:VEVENT
UID:57315de5e32140d252f9ebab@squarespace.com
DTSTAMP:20160510T040649Z
DTSTART:20161230T033000Z
DTEND:20170102T043000Z
SUMMARY:Gulgong Folk Festival
END:VEVENT
END:VCALENDAR
