BEGIN:VCALENDAR
VERSION:2.0
PRODID:-//Squarespace Inc/Squarespace 6//v6//EN
BEGIN:VEVENT
UID:57314b8fc2ea515cf2c2f479@squarespace.com
DTSTAMP:20160510T033918Z
DTSTART:20160610T030000Z
DTEND:20160613T040000Z
SUMMARY:Henry Lawson Heritage Festival
END:VEVENT
END:VCALENDAR
