BEGIN:VCALENDAR
VERSION:2.0
PRODID:-//Squarespace Inc/Squarespace 6//v6//EN
BEGIN:VEVENT
UID:58994d1ee3df288fed2817e9@squarespace.com
DTSTAMP:20170207T043243Z
DTSTART:20170507T010000Z
DTEND:20170507T070000Z
SUMMARY:Hunters Hill Food and Wine Festival
END:VEVENT
END:VCALENDAR
