BEGIN:VCALENDAR
VERSION:2.0
PRODID:-//Squarespace Inc/Squarespace 6//v6//EN
BEGIN:VEVENT
UID:57315ca98259b541884bb353@squarespace.com
DTSTAMP:20160510T040221Z
DTSTART:20161123T030000Z
DTEND:20161127T040000Z
SUMMARY:Huntington Music Festival
GEO:-32.549503;149.634414
LOCATION:Huntington Estate\, 641 Ulan Road\, Buckaroo\, NSW\, 2850\, Austra
 lia
END:VEVENT
END:VCALENDAR
