BEGIN:VCALENDAR
VERSION:2.0
PRODID:-//Squarespace Inc/Squarespace 6//v6//EN
BEGIN:VEVENT
UID:573144f460b5e942e74bb353@squarespace.com
DTSTAMP:20160510T022058Z
DTSTART:20160504T023000Z
DTEND:20160529T033000Z
SUMMARY:Ruth Gobbitt 'Family Matters' Exhibition
GEO:-32.592701;149.590793
LOCATION:13 Lewis Street\, Mudgee\, NSW\, 2850\, Australia
END:VEVENT
END:VCALENDAR
