BEGIN:VCALENDAR
VERSION:2.0
PRODID:-//Squarespace Inc/Squarespace 6//v6//EN
BEGIN:VEVENT
UID:53f35abbe4b02ee39bf11215@squarespace.com
DTSTAMP:20180822T070753Z
DTSTART:20180907T083000Z
DTEND:20180907T133000Z
SUMMARY:Mudgee Wine Show Dinner
END:VEVENT
END:VCALENDAR
